BEGIN:VCALENDAR
VERSION:2.0
PRODID:-//das glashaus - ECPv6.15.20//NONSGML v1.0//EN
CALSCALE:GREGORIAN
METHOD:PUBLISH
X-ORIGINAL-URL:https://glashaus-daaden.de
X-WR-CALDESC:Veranstaltungen für das glashaus
REFRESH-INTERVAL;VALUE=DURATION:PT1H
X-Robots-Tag:noindex
X-PUBLISHED-TTL:PT1H
BEGIN:VTIMEZONE
TZID:Europe/Berlin
BEGIN:DAYLIGHT
TZOFFSETFROM:+0100
TZOFFSETTO:+0200
TZNAME:CEST
DTSTART:20230326T010000
END:DAYLIGHT
BEGIN:STANDARD
TZOFFSETFROM:+0200
TZOFFSETTO:+0100
TZNAME:CET
DTSTART:20231029T010000
END:STANDARD
BEGIN:DAYLIGHT
TZOFFSETFROM:+0100
TZOFFSETTO:+0200
TZNAME:CEST
DTSTART:20240331T010000
END:DAYLIGHT
BEGIN:STANDARD
TZOFFSETFROM:+0200
TZOFFSETTO:+0100
TZNAME:CET
DTSTART:20241027T010000
END:STANDARD
BEGIN:DAYLIGHT
TZOFFSETFROM:+0100
TZOFFSETTO:+0200
TZNAME:CEST
DTSTART:20250330T010000
END:DAYLIGHT
BEGIN:STANDARD
TZOFFSETFROM:+0200
TZOFFSETTO:+0100
TZNAME:CET
DTSTART:20251026T010000
END:STANDARD
END:VTIMEZONE
BEGIN:VEVENT
DTSTART;TZID=Europe/Berlin:20241004T160000
DTEND;TZID=Europe/Berlin:20241004T200000
DTSTAMP:20260420T145418
CREATED:20240917T111950Z
LAST-MODIFIED:20240917T111950Z
UID:895-1728057600-1728072000@glashaus-daaden.de
SUMMARY:Offener Nähkurs
DESCRIPTION:Du wolltest schon immer mal was nähen? Du weißt aber nicht wie? \nDu hast schon mal was genäht\, hast aber keine Ideen für neue Projekte? \nDu kannst nähen\, aber ein paar Tipps und Tricks fehlen dir noch? \nOder willst du einfach nur in Gesellschaft was tolles zaubern? \n  \nDann bist du hier richtig! \n  \nWähle einen Termin und nach kurzer Rücksprache mit unserer Kursleitung ist alles möglich. \n  \nLass dich im Laden von den Ausstellungsstücken inspirieren und stöbere in unseren Stoffen nach dem passenden Stoff für dich. \n  \nDauer:                                             4h \nAnzahl Personen:                     4 Personen \nKosten:                                          50€\, zzgl. Stoffe \n  \nBitte mitbringen: Nähmaschine\, Schere\, Stecknadeln \n  \nOffener Nähkurs
URL:https://glashaus-daaden.de/veranstaltungen/offener-naehkurs/
LOCATION:Glashaus Daaden\, Im Schützenhof 3\, Daaden\, Rheinland-Pfalz\, 57567\, Deutschland
ORGANIZER;CN="Glashaus Daaden":MAILTO:hallo@glashaus-daaden.de
END:VEVENT
BEGIN:VEVENT
DTSTART;TZID=Europe/Berlin:20241005T090000
DTEND;TZID=Europe/Berlin:20241005T130000
DTSTAMP:20260420T145418
CREATED:20240917T113519Z
LAST-MODIFIED:20240917T113519Z
UID:913-1728118800-1728133200@glashaus-daaden.de
SUMMARY:Kindernähkurs - ab 8 Jahre
DESCRIPTION:Du willst das Nähen lernen? Kein Problem! \nIn diesem Kurs machst du deine ersten Schritte an der Nähmaschine – vom Einfädeln\, bis zum fertigen Stück begleiten wir dich. \nFüßchenbreit\, verstürzen\, verriegeln? Am Ende des Kurses sind das keine Fremdwörter mehr für dich. \n  \nDauer:                                4h \nAnzahl Personen:             4 Personen \nKosten:                               50€\, zzgl. Stoffe \n  \nWer stellt das Schnittmuster? Das Schnittmuster stellen wir dir zur Verfügung. \nStoffe? Die Stoffe suchst du dir während des Kurses aus. \nBitte mitbringen: Nähmaschine\, Schere\, Stecknadeln \n  \nKindernähkurs
URL:https://glashaus-daaden.de/veranstaltungen/kindernaehkurs-ab-8-jahre/
LOCATION:Glashaus Daaden\, Im Schützenhof 3\, Daaden\, Rheinland-Pfalz\, 57567\, Deutschland
ORGANIZER;CN="Glashaus Daaden":MAILTO:hallo@glashaus-daaden.de
END:VEVENT
END:VCALENDAR