BEGIN:VCALENDAR
VERSION:2.0
PRODID:-//das glashaus - ECPv6.15.20//NONSGML v1.0//EN
CALSCALE:GREGORIAN
METHOD:PUBLISH
X-WR-CALNAME:das glashaus
X-ORIGINAL-URL:https://glashaus-daaden.de
X-WR-CALDESC:Veranstaltungen für das glashaus
REFRESH-INTERVAL;VALUE=DURATION:PT1H
X-Robots-Tag:noindex
X-PUBLISHED-TTL:PT1H
BEGIN:VTIMEZONE
TZID:Europe/Berlin
BEGIN:DAYLIGHT
TZOFFSETFROM:+0100
TZOFFSETTO:+0200
TZNAME:CEST
DTSTART:20230326T010000
END:DAYLIGHT
BEGIN:STANDARD
TZOFFSETFROM:+0200
TZOFFSETTO:+0100
TZNAME:CET
DTSTART:20231029T010000
END:STANDARD
BEGIN:DAYLIGHT
TZOFFSETFROM:+0100
TZOFFSETTO:+0200
TZNAME:CEST
DTSTART:20240331T010000
END:DAYLIGHT
BEGIN:STANDARD
TZOFFSETFROM:+0200
TZOFFSETTO:+0100
TZNAME:CET
DTSTART:20241027T010000
END:STANDARD
BEGIN:DAYLIGHT
TZOFFSETFROM:+0100
TZOFFSETTO:+0200
TZNAME:CEST
DTSTART:20250330T010000
END:DAYLIGHT
BEGIN:STANDARD
TZOFFSETFROM:+0200
TZOFFSETTO:+0100
TZNAME:CET
DTSTART:20251026T010000
END:STANDARD
END:VTIMEZONE
BEGIN:VEVENT
DTSTART;TZID=Europe/Berlin:20240607T090000
DTEND;TZID=Europe/Berlin:20240607T130000
DTSTAMP:20260420T162002
CREATED:20240102T192002Z
LAST-MODIFIED:20240524T165519Z
UID:266-1717750800-1717765200@glashaus-daaden.de
SUMMARY:Nähkurs | Babyausstattung
DESCRIPTION:Babyausstattung \nWarum Kleidung für Babys von der Stange kaufen? \nNäh deine Babyausstattung doch selber! \nIm Workshop lernst du die Basics\, wie du deinen kleinen Liebling ganz individuell ausstatten kannst.
URL:https://glashaus-daaden.de/veranstaltungen/naehkurs-der-taschenkurs/
LOCATION:Glashaus Daaden\, Im Schützenhof 3\, Daaden\, Rheinland-Pfalz\, 57567\, Deutschland
ORGANIZER;CN="Glashaus Daaden":MAILTO:hallo@glashaus-daaden.de
END:VEVENT
BEGIN:VEVENT
DTSTART;TZID=Europe/Berlin:20240608T090000
DTEND;TZID=Europe/Berlin:20240608T130000
DTSTAMP:20260420T162002
CREATED:20240102T190904Z
LAST-MODIFIED:20240524T165440Z
UID:259-1717837200-1717851600@glashaus-daaden.de
SUMMARY:Nähkurs | Babyausstattung
DESCRIPTION:Babyausstattung \nWarum Kleidung für Babys von der Stange kaufen? \nNäh deine Babyausstattung doch selber! \nIm Workshop lernst du die Basics\, wie du deinen kleinen Liebling ganz individuell ausstatten kannst.
URL:https://glashaus-daaden.de/veranstaltungen/naehkurs/
LOCATION:Glashaus Daaden\, Im Schützenhof 3\, Daaden\, Rheinland-Pfalz\, 57567\, Deutschland
ORGANIZER;CN="Glashaus Daaden":MAILTO:hallo@glashaus-daaden.de
END:VEVENT
BEGIN:VEVENT
DTSTART;TZID=Europe/Berlin:20240610T160000
DTEND;TZID=Europe/Berlin:20240610T200000
DTSTAMP:20260420T162002
CREATED:20240524T164455Z
LAST-MODIFIED:20240524T165340Z
UID:854-1718035200-1718049600@glashaus-daaden.de
SUMMARY:Nähkurs I Babyausstattung
DESCRIPTION:Babyausstattung \nWarum Kleidung für Babys von der Stange kaufen? \nNäh deine Babyausstattung doch selber! \nIm Workshop lernst du die Basics\, wie du deinen kleinen Liebling ganz individuell ausstatten kannst.
URL:https://glashaus-daaden.de/veranstaltungen/naehkurs-i-babyausstattung/
LOCATION:Glashaus Daaden\, Im Schützenhof 3\, Daaden\, Rheinland-Pfalz\, 57567\, Deutschland
ORGANIZER;CN="Glashaus Daaden":MAILTO:hallo@glashaus-daaden.de
END:VEVENT
BEGIN:VEVENT
DTSTART;TZID=Europe/Berlin:20240621T090000
DTEND;TZID=Europe/Berlin:20240621T130000
DTSTAMP:20260420T162002
CREATED:20240102T190629Z
LAST-MODIFIED:20240524T165152Z
UID:248-1718960400-1718974800@glashaus-daaden.de
SUMMARY:Nähkurs | Nähen für Einsteiger
DESCRIPTION:Nähen für Einsteiger \nDu willst das Nähen lernen? Kein Problem! \nIn diesem Kurs machst du deine ersten Schritte an der Nähmaschine – vom Einfädeln\, bis zum fertigen Stück begleiten wir dich. \nFüßchenbreit\, verstürzen\, verriegeln? Am Ende des Kurses sind das keine Fremdwörter mehr für dich.
URL:https://glashaus-daaden.de/veranstaltungen/naehkurs-naehen-fuer-einsteiger/
LOCATION:Glashaus Daaden\, Im Schützenhof 3\, Daaden\, Rheinland-Pfalz\, 57567\, Deutschland
ORGANIZER;CN="Glashaus Daaden":MAILTO:hallo@glashaus-daaden.de
END:VEVENT
BEGIN:VEVENT
DTSTART;TZID=Europe/Berlin:20240622T090000
DTEND;TZID=Europe/Berlin:20240622T130000
DTSTAMP:20260420T162002
CREATED:20240524T163553Z
LAST-MODIFIED:20240524T165118Z
UID:839-1719046800-1719061200@glashaus-daaden.de
SUMMARY:Nähkurs | Nähen für Einsteiger
DESCRIPTION:Nähen für Einsteiger \nDu willst das Nähen lernen? Kein Problem! \nIn diesem Kurs machst du deine ersten Schritte an der Nähmaschine – vom Einfädeln\, bis zum fertigen Stück begleiten wir dich. \nFüßchenbreit\, verstürzen\, verriegeln? Am Ende des Kurses sind das keine Fremdwörter mehr für dich.
URL:https://glashaus-daaden.de/veranstaltungen/naehkurs-naehen-fuer-einsteiger-2/
LOCATION:Glashaus Daaden\, Im Schützenhof 3\, Daaden\, Rheinland-Pfalz\, 57567\, Deutschland
ORGANIZER;CN="Glashaus Daaden":MAILTO:hallo@glashaus-daaden.de
END:VEVENT
BEGIN:VEVENT
DTSTART;TZID=Europe/Berlin:20240624T160000
DTEND;TZID=Europe/Berlin:20240624T200000
DTSTAMP:20260420T162002
CREATED:20240101T204422Z
LAST-MODIFIED:20240524T164944Z
UID:237-1719244800-1719259200@glashaus-daaden.de
SUMMARY:Nähkurs | Nähen für Einsteiger
DESCRIPTION:Nähen für Einsteiger \nDu willst das Nähen lernen? Kein Problem! \nIn diesem Kurs machst du deine ersten Schritte an der Nähmaschine – vom Einfädeln\, bis zum fertigen Stück begleiten wir dich. \nFüßchenbreit\, verstürzen\, verriegeln? Am Ende des Kurses sind das keine Fremdwörter mehr für dich. \n 
URL:https://glashaus-daaden.de/veranstaltungen/naehkurse-naehen-fuer-einsteiger/
LOCATION:Glashaus Daaden\, Im Schützenhof 3\, Daaden\, Rheinland-Pfalz\, 57567\, Deutschland
ORGANIZER;CN="Glashaus Daaden":MAILTO:hallo@glashaus-daaden.de
END:VEVENT
BEGIN:VEVENT
DTSTART;TZID=Europe/Berlin:20240628T170000
DTEND;TZID=Europe/Berlin:20240628T210000
DTSTAMP:20260420T162002
CREATED:20240618T065913Z
LAST-MODIFIED:20240618T070944Z
UID:874-1719594000-1719608400@glashaus-daaden.de
SUMMARY:PROSSECCO FRIDAY / LATE SHOPPING
DESCRIPTION:Flyer Prosecco Friday \nFreitag\, 28.06.24 \n17-21.00 Uhr \nLate shopping bei Sekt und kleinen Köstlichkeiten..
URL:https://glashaus-daaden.de/veranstaltungen/prossecco-friday-late-shopping/
LOCATION:Glashaus Daaden\, Im Schützenhof 3\, Daaden\, Rheinland-Pfalz\, 57567\, Deutschland
ORGANIZER;CN="Glashaus Daaden":MAILTO:hallo@glashaus-daaden.de
END:VEVENT
END:VCALENDAR