BEGIN:VCALENDAR
VERSION:2.0
PRODID:-//das glashaus - ECPv6.15.20//NONSGML v1.0//EN
CALSCALE:GREGORIAN
METHOD:PUBLISH
X-ORIGINAL-URL:https://glashaus-daaden.de
X-WR-CALDESC:Veranstaltungen für das glashaus
REFRESH-INTERVAL;VALUE=DURATION:PT1H
X-Robots-Tag:noindex
X-PUBLISHED-TTL:PT1H
BEGIN:VTIMEZONE
TZID:Europe/Berlin
BEGIN:DAYLIGHT
TZOFFSETFROM:+0100
TZOFFSETTO:+0200
TZNAME:CEST
DTSTART:20240331T010000
END:DAYLIGHT
BEGIN:STANDARD
TZOFFSETFROM:+0200
TZOFFSETTO:+0100
TZNAME:CET
DTSTART:20241027T010000
END:STANDARD
BEGIN:DAYLIGHT
TZOFFSETFROM:+0100
TZOFFSETTO:+0200
TZNAME:CEST
DTSTART:20250330T010000
END:DAYLIGHT
BEGIN:STANDARD
TZOFFSETFROM:+0200
TZOFFSETTO:+0100
TZNAME:CET
DTSTART:20251026T010000
END:STANDARD
BEGIN:DAYLIGHT
TZOFFSETFROM:+0100
TZOFFSETTO:+0200
TZNAME:CEST
DTSTART:20260329T010000
END:DAYLIGHT
BEGIN:STANDARD
TZOFFSETFROM:+0200
TZOFFSETTO:+0100
TZNAME:CET
DTSTART:20261025T010000
END:STANDARD
END:VTIMEZONE
BEGIN:VEVENT
DTSTART;TZID=Europe/Berlin:20250130T090000
DTEND;TZID=Europe/Berlin:20250130T210000
DTSTAMP:20260420T143053
CREATED:20250128T063127Z
LAST-MODIFIED:20250128T063127Z
UID:935-1738227600-1738270800@glashaus-daaden.de
SUMMARY:Late Shopping mit Musik
DESCRIPTION:Kommt vorbei! \nLate Shopping
URL:https://glashaus-daaden.de/veranstaltungen/late-shopping-mit-musik/
LOCATION:Glashaus Daaden\, Im Schützenhof 3\, Daaden\, Rheinland-Pfalz\, 57567\, Deutschland
ORGANIZER;CN="Glashaus Daaden":MAILTO:hallo@glashaus-daaden.de
END:VEVENT
END:VCALENDAR