BEGIN:VCALENDAR
VERSION:2.0
PRODID:-//das glashaus - ECPv6.15.20//NONSGML v1.0//EN
CALSCALE:GREGORIAN
METHOD:PUBLISH
X-ORIGINAL-URL:https://glashaus-daaden.de
X-WR-CALDESC:Veranstaltungen für das glashaus
REFRESH-INTERVAL;VALUE=DURATION:PT1H
X-Robots-Tag:noindex
X-PUBLISHED-TTL:PT1H
BEGIN:VTIMEZONE
TZID:Europe/Berlin
BEGIN:DAYLIGHT
TZOFFSETFROM:+0100
TZOFFSETTO:+0200
TZNAME:CEST
DTSTART:20230326T010000
END:DAYLIGHT
BEGIN:STANDARD
TZOFFSETFROM:+0200
TZOFFSETTO:+0100
TZNAME:CET
DTSTART:20231029T010000
END:STANDARD
BEGIN:DAYLIGHT
TZOFFSETFROM:+0100
TZOFFSETTO:+0200
TZNAME:CEST
DTSTART:20240331T010000
END:DAYLIGHT
BEGIN:STANDARD
TZOFFSETFROM:+0200
TZOFFSETTO:+0100
TZNAME:CET
DTSTART:20241027T010000
END:STANDARD
BEGIN:DAYLIGHT
TZOFFSETFROM:+0100
TZOFFSETTO:+0200
TZNAME:CEST
DTSTART:20250330T010000
END:DAYLIGHT
BEGIN:STANDARD
TZOFFSETFROM:+0200
TZOFFSETTO:+0100
TZNAME:CET
DTSTART:20251026T010000
END:STANDARD
END:VTIMEZONE
BEGIN:VEVENT
DTSTART;TZID=Europe/Berlin:20240628T170000
DTEND;TZID=Europe/Berlin:20240628T210000
DTSTAMP:20260420T194741
CREATED:20240618T065913Z
LAST-MODIFIED:20240618T070944Z
UID:874-1719594000-1719608400@glashaus-daaden.de
SUMMARY:PROSSECCO FRIDAY / LATE SHOPPING
DESCRIPTION:Flyer Prosecco Friday \nFreitag\, 28.06.24 \n17-21.00 Uhr \nLate shopping bei Sekt und kleinen Köstlichkeiten..
URL:https://glashaus-daaden.de/veranstaltungen/prossecco-friday-late-shopping/
LOCATION:Glashaus Daaden\, Im Schützenhof 3\, Daaden\, Rheinland-Pfalz\, 57567\, Deutschland
ORGANIZER;CN="Glashaus Daaden":MAILTO:hallo@glashaus-daaden.de
END:VEVENT
END:VCALENDAR